BEGIN:VCALENDAR
VERSION:2.0
PRODID:-//Fahrschule Seyfried - ECPv5.12.4//NONSGML v1.0//EN
CALSCALE:GREGORIAN
METHOD:PUBLISH
X-WR-CALNAME:Fahrschule Seyfried
X-ORIGINAL-URL:https://www.fahrschule-seyfried.de
X-WR-CALDESC:Veranstaltungen für Fahrschule Seyfried
REFRESH-INTERVAL;VALUE=DURATION:PT1H
X-Robots-Tag:noindex
X-PUBLISHED-TTL:PT1H
BEGIN:VTIMEZONE
TZID:Europe/Berlin
BEGIN:DAYLIGHT
TZOFFSETFROM:+0100
TZOFFSETTO:+0200
TZNAME:CEST
DTSTART:20240331T010000
END:DAYLIGHT
BEGIN:STANDARD
TZOFFSETFROM:+0200
TZOFFSETTO:+0100
TZNAME:CET
DTSTART:20241027T010000
END:STANDARD
END:VTIMEZONE
BEGIN:VEVENT
DTSTART;TZID=Europe/Berlin:20240402T190000
DTEND;TZID=Europe/Berlin:20240402T203000
DTSTAMP:20260421T131436
CREATED:20200523T130238Z
LAST-MODIFIED:20240322T174237Z
UID:2601-1712084400-1712089800@www.fahrschule-seyfried.de
SUMMARY:Grundunterricht  Lektion 1
DESCRIPTION:Lektion 1: Persönliche Voraussetzungen
URL:https://www.fahrschule-seyfried.de/termin/grundunterricht-lektion-1-19/
LOCATION:Calmbach\, Wildbader Straße 6\, Calmbach\, Baden-Württemberg\, 75323\, Deutschland
ATTACH;FMTTYPE=image/jpeg:https://www.fahrschule-seyfried.de/wp-content/uploads/2021/03/tiguan-vor-fahrschule.jpg
END:VEVENT
BEGIN:VEVENT
DTSTART;TZID=Europe/Berlin:20240404T190000
DTEND;TZID=Europe/Berlin:20240404T203000
DTSTAMP:20260421T131436
CREATED:20200523T130238Z
LAST-MODIFIED:20240322T174311Z
UID:2603-1712257200-1712262600@www.fahrschule-seyfried.de
SUMMARY:Grundunterricht  Lektion 2
DESCRIPTION:Lektion 2: Rechtliche Rahmenbedingungen
URL:https://www.fahrschule-seyfried.de/termin/grundunterricht-lektion-2-18/
LOCATION:Calmbach\, Wildbader Straße 6\, Calmbach\, Baden-Württemberg\, 75323\, Deutschland
ATTACH;FMTTYPE=image/jpeg:https://www.fahrschule-seyfried.de/wp-content/uploads/2021/03/gilbert-online.jpg
END:VEVENT
BEGIN:VEVENT
DTSTART;TZID=Europe/Berlin:20240409T190000
DTEND;TZID=Europe/Berlin:20240409T203000
DTSTAMP:20260421T131436
CREATED:20200523T130238Z
LAST-MODIFIED:20240322T174351Z
UID:2605-1712689200-1712694600@www.fahrschule-seyfried.de
SUMMARY:Grundunterricht  Lektion 3
DESCRIPTION:Lektion 3: Verkehrszeichen
URL:https://www.fahrschule-seyfried.de/termin/grundunterricht-lektion-3-18/
LOCATION:Calmbach\, Wildbader Straße 6\, Calmbach\, Baden-Württemberg\, 75323\, Deutschland
ATTACH;FMTTYPE=image/jpeg:https://www.fahrschule-seyfried.de/wp-content/uploads/2020/05/CA-13-Kopie.jpg
END:VEVENT
BEGIN:VEVENT
DTSTART;TZID=Europe/Berlin:20240411T190000
DTEND;TZID=Europe/Berlin:20240411T203000
DTSTAMP:20260421T131436
CREATED:20200523T130238Z
LAST-MODIFIED:20240322T174422Z
UID:2607-1712862000-1712867400@www.fahrschule-seyfried.de
SUMMARY:Grundunterricht  Lektion 4
DESCRIPTION:Lektion 4: Straßenverkehrssystem
URL:https://www.fahrschule-seyfried.de/termin/grundunterricht-lektion-4-18/
LOCATION:Calmbach\, Wildbader Straße 6\, Calmbach\, Baden-Württemberg\, 75323\, Deutschland
ATTACH;FMTTYPE=image/jpeg:https://www.fahrschule-seyfried.de/wp-content/uploads/2021/03/vw-golf-gelb-klein.jpg
END:VEVENT
BEGIN:VEVENT
DTSTART;TZID=Europe/Berlin:20240416T190000
DTEND;TZID=Europe/Berlin:20240416T203000
DTSTAMP:20260421T131436
CREATED:20200523T130238Z
LAST-MODIFIED:20240322T174453Z
UID:2609-1713294000-1713299400@www.fahrschule-seyfried.de
SUMMARY:Grundunterricht  Lektion 5
DESCRIPTION:Lektion 5: Vorfahrt
URL:https://www.fahrschule-seyfried.de/termin/grundunterricht-lektion-5-18/
LOCATION:Calmbach\, Wildbader Straße 6\, Calmbach\, Baden-Württemberg\, 75323\, Deutschland
ATTACH;FMTTYPE=image/jpeg:https://www.fahrschule-seyfried.de/wp-content/uploads/2021/03/reifenmodell.jpg
END:VEVENT
BEGIN:VEVENT
DTSTART;TZID=Europe/Berlin:20240418T190000
DTEND;TZID=Europe/Berlin:20240418T203000
DTSTAMP:20260421T131436
CREATED:20200523T130238Z
LAST-MODIFIED:20240322T181103Z
UID:2611-1713466800-1713472200@www.fahrschule-seyfried.de
SUMMARY:Grundunterricht  Lektion 6
DESCRIPTION:Lektion 6: Lichtzeichenanlage\, Bahnübergänge
URL:https://www.fahrschule-seyfried.de/termin/grundunterricht-lektion-6-18/
LOCATION:Calmbach\, Wildbader Straße 6\, Calmbach\, Baden-Württemberg\, 75323\, Deutschland
ATTACH;FMTTYPE=image/png:https://www.fahrschule-seyfried.de/wp-content/uploads/2020/03/Logobunt-uranograu.png
END:VEVENT
BEGIN:VEVENT
DTSTART;TZID=Europe/Berlin:20240423T190000
DTEND;TZID=Europe/Berlin:20240423T203000
DTSTAMP:20260421T131436
CREATED:20200523T130238Z
LAST-MODIFIED:20240419T162855Z
UID:2629-1713898800-1713904200@www.fahrschule-seyfried.de
SUMMARY:Grundunterricht  Lektion 7
DESCRIPTION:Lektion 7: Geschwindigkeit\, Abstand
URL:https://www.fahrschule-seyfried.de/termin/grundunterricht-lektion-7-19/
LOCATION:Calmbach\, Wildbader Straße 6\, Calmbach\, Baden-Württemberg\, 75323\, Deutschland
ATTACH;FMTTYPE=image/jpeg:https://www.fahrschule-seyfried.de/wp-content/uploads/2020/05/DSC02085-scaled.jpg
END:VEVENT
BEGIN:VEVENT
DTSTART;TZID=Europe/Berlin:20240425T190000
DTEND;TZID=Europe/Berlin:20240425T203000
DTSTAMP:20260421T131436
CREATED:20200523T130238Z
LAST-MODIFIED:20240419T162932Z
UID:2613-1714071600-1714077000@www.fahrschule-seyfried.de
SUMMARY:Grundunterricht  Lektion 8
DESCRIPTION:Lektion 8: Andere Verkehrsteilnehmer
URL:https://www.fahrschule-seyfried.de/termin/grundunterricht-lektion-8-19/
LOCATION:Calmbach\, Wildbader Straße 6\, Calmbach\, Baden-Württemberg\, 75323\, Deutschland
ATTACH;FMTTYPE=image/png:https://www.fahrschule-seyfried.de/wp-content/uploads/2022/09/SAM_0522.png
END:VEVENT
BEGIN:VEVENT
DTSTART;VALUE=DATE:20240427
DTEND;VALUE=DATE:20240428
DTSTAMP:20260421T131436
CREATED:20200523T130238Z
LAST-MODIFIED:20240322T181756Z
UID:2617-1714176000-1714262399@www.fahrschule-seyfried.de
SUMMARY:Erste Hilfe Kurs
DESCRIPTION:Die Vergabe der Plätze erfolgt über die Fahrschule.Weitere Termine folgen regelmäßig in einem Abstand von 30 bis 45 Tagen.Der Kurs findet immer Samstags ab 08:30 Uhr in der Fahrschule in Calmbach statt.
URL:https://www.fahrschule-seyfried.de/termin/erste-hilfe-kurs-18/
LOCATION:Calmbach\, Wildbader Straße 6\, Calmbach\, Baden-Württemberg\, 75323\, Deutschland
ATTACH;FMTTYPE=image/jpeg:https://www.fahrschule-seyfried.de/wp-content/uploads/2020/07/erste-hilfe-koffer.jpg
END:VEVENT
BEGIN:VEVENT
DTSTART;TZID=Europe/Berlin:20240430T190000
DTEND;TZID=Europe/Berlin:20240430T203000
DTSTAMP:20260421T131436
CREATED:20200523T130238Z
LAST-MODIFIED:20240419T163055Z
UID:2615-1714503600-1714509000@www.fahrschule-seyfried.de
SUMMARY:Grundunterricht  Lektion 9
DESCRIPTION:Lektion 9: Verhalten nach Verkehrsmanövern
URL:https://www.fahrschule-seyfried.de/termin/grundunterricht-lektion-9-19/
LOCATION:Calmbach\, Wildbader Straße 6\, Calmbach\, Baden-Württemberg\, 75323\, Deutschland
ATTACH;FMTTYPE=image/jpeg:https://www.fahrschule-seyfried.de/wp-content/uploads/2021/03/modellautoregal.jpg
END:VEVENT
END:VCALENDAR