BEGIN:VCALENDAR
VERSION:2.0
PRODID:-//Fahrschule Seyfried - ECPv5.12.4//NONSGML v1.0//EN
CALSCALE:GREGORIAN
METHOD:PUBLISH
X-WR-CALNAME:Fahrschule Seyfried
X-ORIGINAL-URL:https://www.fahrschule-seyfried.de
X-WR-CALDESC:Veranstaltungen für Fahrschule Seyfried
REFRESH-INTERVAL;VALUE=DURATION:PT1H
X-Robots-Tag:noindex
X-PUBLISHED-TTL:PT1H
BEGIN:VTIMEZONE
TZID:Europe/Berlin
BEGIN:DAYLIGHT
TZOFFSETFROM:+0100
TZOFFSETTO:+0200
TZNAME:CEST
DTSTART:20240331T010000
END:DAYLIGHT
BEGIN:STANDARD
TZOFFSETFROM:+0200
TZOFFSETTO:+0100
TZNAME:CET
DTSTART:20241027T010000
END:STANDARD
END:VTIMEZONE
BEGIN:VEVENT
DTSTART;TZID=Europe/Berlin:20240201T190000
DTEND;TZID=Europe/Berlin:20240201T203000
DTSTAMP:20260421T183954
CREATED:20200523T130238Z
LAST-MODIFIED:20231229T102147Z
UID:2551-1706814000-1706819400@www.fahrschule-seyfried.de
SUMMARY:Grundunterricht  Lektion 12
DESCRIPTION:Lektion 12: Lebenslanges Lernen
URL:https://www.fahrschule-seyfried.de/termin/grundunterricht-lektion-12-17/
LOCATION:Calmbach\, Wildbader Straße 6\, Calmbach\, Baden-Württemberg\, 75323\, Deutschland
ATTACH;FMTTYPE=image/jpeg:https://www.fahrschule-seyfried.de/wp-content/uploads/2021/03/sigi-online.jpg
END:VEVENT
BEGIN:VEVENT
DTSTART;TZID=Europe/Berlin:20240206T190000
DTEND;TZID=Europe/Berlin:20240206T203000
DTSTAMP:20260421T183954
CREATED:20200523T130238Z
LAST-MODIFIED:20231229T102616Z
UID:2553-1707246000-1707251400@www.fahrschule-seyfried.de
SUMMARY:Klasse B Lektion B1
DESCRIPTION:Lektion B1: Technik\, Fahrphysik
URL:https://www.fahrschule-seyfried.de/termin/klasse-b-lektion-b1-20/
LOCATION:Calmbach\, Wildbader Straße 6\, Calmbach\, Baden-Württemberg\, 75323\, Deutschland
ATTACH;FMTTYPE=image/jpeg:https://www.fahrschule-seyfried.de/wp-content/uploads/2021/03/bremsmodell.jpg
END:VEVENT
BEGIN:VEVENT
DTSTART;TZID=Europe/Berlin:20240208T190000
DTEND;TZID=Europe/Berlin:20240208T203000
DTSTAMP:20260421T183954
CREATED:20200523T130238Z
LAST-MODIFIED:20231229T102657Z
UID:2554-1707418800-1707424200@www.fahrschule-seyfried.de
SUMMARY:Klasse B Lektion B2
DESCRIPTION:Lektion B2: Anhänger
URL:https://www.fahrschule-seyfried.de/termin/klasse-b-lektion-b2-20/
LOCATION:Calmbach
ATTACH;FMTTYPE=image/png:https://www.fahrschule-seyfried.de/wp-content/uploads/2021/03/anhaenger-2021.png
END:VEVENT
BEGIN:VEVENT
DTSTART;TZID=Europe/Berlin:20240213T190000
DTEND;TZID=Europe/Berlin:20240213T203000
DTSTAMP:20260421T183954
CREATED:20200523T130238Z
LAST-MODIFIED:20240206T181439Z
UID:2569-1707850800-1707856200@www.fahrschule-seyfried.de
SUMMARY:Grundunterricht  Lektion 1
DESCRIPTION:Lektion 1: Persönliche Voraussetzungen
URL:https://www.fahrschule-seyfried.de/termin/grundunterricht-lektion-1-18/
LOCATION:Calmbach\, Wildbader Straße 6\, Calmbach\, Baden-Württemberg\, 75323\, Deutschland
ATTACH;FMTTYPE=image/jpeg:https://www.fahrschule-seyfried.de/wp-content/uploads/2021/03/tiguan-vor-fahrschule.jpg
END:VEVENT
BEGIN:VEVENT
DTSTART;TZID=Europe/Berlin:20240215T190000
DTEND;TZID=Europe/Berlin:20240215T203000
DTSTAMP:20260421T183954
CREATED:20200523T130238Z
LAST-MODIFIED:20240206T181521Z
UID:2571-1708023600-1708029000@www.fahrschule-seyfried.de
SUMMARY:Grundunterricht  Lektion 2
DESCRIPTION:Lektion 2: Rechtliche Rahmenbedingungen
URL:https://www.fahrschule-seyfried.de/termin/grundunterricht-lektion-2-17/
LOCATION:Calmbach\, Wildbader Straße 6\, Calmbach\, Baden-Württemberg\, 75323\, Deutschland
ATTACH;FMTTYPE=image/jpeg:https://www.fahrschule-seyfried.de/wp-content/uploads/2021/03/gilbert-online.jpg
END:VEVENT
BEGIN:VEVENT
DTSTART;VALUE=DATE:20240217
DTEND;VALUE=DATE:20240218
DTSTAMP:20260421T183954
CREATED:20200523T130238Z
LAST-MODIFIED:20240108T154236Z
UID:2545-1708128000-1708214399@www.fahrschule-seyfried.de
SUMMARY:Erste Hilfe Kurs
DESCRIPTION:Die Vergabe der Plätze erfolgt über die Fahrschule.Weitere Termine folgen regelmäßig in einem Abstand von 30 bis 45 Tagen.Der Kurs findet immer Samstags ab 08:30 Uhr in der Fahrschule in Calmbach statt.
URL:https://www.fahrschule-seyfried.de/termin/erste-hilfe-kurs-16/
LOCATION:Calmbach\, Wildbader Straße 6\, Calmbach\, Baden-Württemberg\, 75323\, Deutschland
ATTACH;FMTTYPE=image/jpeg:https://www.fahrschule-seyfried.de/wp-content/uploads/2020/07/erste-hilfe-koffer.jpg
END:VEVENT
BEGIN:VEVENT
DTSTART;TZID=Europe/Berlin:20240220T190000
DTEND;TZID=Europe/Berlin:20240220T203000
DTSTAMP:20260421T183954
CREATED:20200523T130238Z
LAST-MODIFIED:20240206T181555Z
UID:2573-1708455600-1708461000@www.fahrschule-seyfried.de
SUMMARY:Grundunterricht  Lektion 3
DESCRIPTION:Lektion 3: Verkehrszeichen
URL:https://www.fahrschule-seyfried.de/termin/grundunterricht-lektion-3-17/
LOCATION:Calmbach\, Wildbader Straße 6\, Calmbach\, Baden-Württemberg\, 75323\, Deutschland
ATTACH;FMTTYPE=image/jpeg:https://www.fahrschule-seyfried.de/wp-content/uploads/2020/05/CA-13-Kopie.jpg
END:VEVENT
BEGIN:VEVENT
DTSTART;TZID=Europe/Berlin:20240222T190000
DTEND;TZID=Europe/Berlin:20240222T203000
DTSTAMP:20260421T183954
CREATED:20200523T130238Z
LAST-MODIFIED:20240206T181629Z
UID:2575-1708628400-1708633800@www.fahrschule-seyfried.de
SUMMARY:Grundunterricht  Lektion 4
DESCRIPTION:Lektion 4: Straßenverkehrssystem
URL:https://www.fahrschule-seyfried.de/termin/grundunterricht-lektion-4-17/
LOCATION:Calmbach\, Wildbader Straße 6\, Calmbach\, Baden-Württemberg\, 75323\, Deutschland
ATTACH;FMTTYPE=image/jpeg:https://www.fahrschule-seyfried.de/wp-content/uploads/2021/03/vw-golf-gelb-klein.jpg
END:VEVENT
BEGIN:VEVENT
DTSTART;TZID=Europe/Berlin:20240227T190000
DTEND;TZID=Europe/Berlin:20240227T203000
DTSTAMP:20260421T183954
CREATED:20200523T130238Z
LAST-MODIFIED:20240222T181803Z
UID:2578-1709060400-1709065800@www.fahrschule-seyfried.de
SUMMARY:Grundunterricht  Lektion 5
DESCRIPTION:Lektion 5: Vorfahrt
URL:https://www.fahrschule-seyfried.de/termin/grundunterricht-lektion-5-17/
LOCATION:Calmbach\, Wildbader Straße 6\, Calmbach\, Baden-Württemberg\, 75323\, Deutschland
ATTACH;FMTTYPE=image/jpeg:https://www.fahrschule-seyfried.de/wp-content/uploads/2021/03/reifenmodell.jpg
END:VEVENT
BEGIN:VEVENT
DTSTART;TZID=Europe/Berlin:20240229T190000
DTEND;TZID=Europe/Berlin:20240229T203000
DTSTAMP:20260421T183954
CREATED:20200523T130238Z
LAST-MODIFIED:20240222T181835Z
UID:2580-1709233200-1709238600@www.fahrschule-seyfried.de
SUMMARY:Grundunterricht  Lektion 6
DESCRIPTION:Lektion 6: Lichtzeichenanlage\, Bahnübergänge
URL:https://www.fahrschule-seyfried.de/termin/grundunterricht-lektion-6-17/
LOCATION:Calmbach\, Wildbader Straße 6\, Calmbach\, Baden-Württemberg\, 75323\, Deutschland
ATTACH;FMTTYPE=image/png:https://www.fahrschule-seyfried.de/wp-content/uploads/2020/03/Logobunt-uranograu.png
END:VEVENT
END:VCALENDAR