BEGIN:VCALENDAR
VERSION:2.0
PRODID:-//Fahrschule Seyfried - ECPv5.12.4//NONSGML v1.0//EN
CALSCALE:GREGORIAN
METHOD:PUBLISH
X-WR-CALNAME:Fahrschule Seyfried
X-ORIGINAL-URL:https://www.fahrschule-seyfried.de
X-WR-CALDESC:Veranstaltungen für Fahrschule Seyfried
REFRESH-INTERVAL;VALUE=DURATION:PT1H
X-Robots-Tag:noindex
X-PUBLISHED-TTL:PT1H
BEGIN:VTIMEZONE
TZID:Europe/Berlin
BEGIN:DAYLIGHT
TZOFFSETFROM:+0100
TZOFFSETTO:+0200
TZNAME:CEST
DTSTART:20230326T010000
END:DAYLIGHT
BEGIN:STANDARD
TZOFFSETFROM:+0200
TZOFFSETTO:+0100
TZNAME:CET
DTSTART:20231029T010000
END:STANDARD
END:VTIMEZONE
BEGIN:VEVENT
DTSTART;TZID=Europe/Berlin:20231205T190000
DTEND;TZID=Europe/Berlin:20231205T203000
DTSTAMP:20260421T193048
CREATED:20200523T130238Z
LAST-MODIFIED:20231102T161940Z
UID:2471-1701802800-1701808200@www.fahrschule-seyfried.de
SUMMARY:Klasse B Lektion B1
DESCRIPTION:Lektion B1: Technik\, Fahrphysik
URL:https://www.fahrschule-seyfried.de/termin/klasse-b-lektion-b1-19/
LOCATION:Calmbach\, Wildbader Straße 6\, Calmbach\, Baden-Württemberg\, 75323\, Deutschland
ATTACH;FMTTYPE=image/jpeg:https://www.fahrschule-seyfried.de/wp-content/uploads/2021/03/bremsmodell.jpg
END:VEVENT
BEGIN:VEVENT
DTSTART;TZID=Europe/Berlin:20231207T190000
DTEND;TZID=Europe/Berlin:20231207T203000
DTSTAMP:20260421T193048
CREATED:20200523T130238Z
LAST-MODIFIED:20231102T162008Z
UID:2473-1701975600-1701981000@www.fahrschule-seyfried.de
SUMMARY:Klasse B Lektion B2
DESCRIPTION:Lektion B2: Anhänger
URL:https://www.fahrschule-seyfried.de/termin/klasse-b-lektion-b2-19/
LOCATION:Calmbach
ATTACH;FMTTYPE=image/png:https://www.fahrschule-seyfried.de/wp-content/uploads/2021/03/anhaenger-2021.png
END:VEVENT
BEGIN:VEVENT
DTSTART;TZID=Europe/Berlin:20231212T190000
DTEND;TZID=Europe/Berlin:20231212T203000
DTSTAMP:20260421T193048
CREATED:20200523T130238Z
LAST-MODIFIED:20231102T162040Z
UID:2475-1702407600-1702413000@www.fahrschule-seyfried.de
SUMMARY:Grundunterricht  Lektion 1
DESCRIPTION:Lektion 1: Persönliche Voraussetzungen
URL:https://www.fahrschule-seyfried.de/termin/grundunterricht-lektion-1-17/
LOCATION:Calmbach\, Wildbader Straße 6\, Calmbach\, Baden-Württemberg\, 75323\, Deutschland
ATTACH;FMTTYPE=image/jpeg:https://www.fahrschule-seyfried.de/wp-content/uploads/2021/03/tiguan-vor-fahrschule.jpg
END:VEVENT
BEGIN:VEVENT
DTSTART;TZID=Europe/Berlin:20231214T190000
DTEND;TZID=Europe/Berlin:20231214T203000
DTSTAMP:20260421T193048
CREATED:20200523T130238Z
LAST-MODIFIED:20231102T162110Z
UID:2477-1702580400-1702585800@www.fahrschule-seyfried.de
SUMMARY:Grundunterricht  Lektion 2
DESCRIPTION:Lektion 2: Rechtliche Rahmenbedingungen
URL:https://www.fahrschule-seyfried.de/termin/grundunterricht-lektion-2-16/
LOCATION:Calmbach\, Wildbader Straße 6\, Calmbach\, Baden-Württemberg\, 75323\, Deutschland
ATTACH;FMTTYPE=image/jpeg:https://www.fahrschule-seyfried.de/wp-content/uploads/2021/03/gilbert-online.jpg
END:VEVENT
BEGIN:VEVENT
DTSTART;TZID=Europe/Berlin:20231219T190000
DTEND;TZID=Europe/Berlin:20231219T203000
DTSTAMP:20260421T193048
CREATED:20200523T130238Z
LAST-MODIFIED:20231103T165117Z
UID:2480-1703012400-1703017800@www.fahrschule-seyfried.de
SUMMARY:Grundunterricht  Lektion 3
DESCRIPTION:Lektion 3: Verkehrszeichen
URL:https://www.fahrschule-seyfried.de/termin/grundunterricht-lektion-3-16/
LOCATION:Calmbach\, Wildbader Straße 6\, Calmbach\, Baden-Württemberg\, 75323\, Deutschland
ATTACH;FMTTYPE=image/jpeg:https://www.fahrschule-seyfried.de/wp-content/uploads/2020/05/CA-13-Kopie.jpg
END:VEVENT
BEGIN:VEVENT
DTSTART;TZID=Europe/Berlin:20231221T190000
DTEND;TZID=Europe/Berlin:20231221T203000
DTSTAMP:20260421T193048
CREATED:20200523T130238Z
LAST-MODIFIED:20231103T163453Z
UID:2482-1703185200-1703190600@www.fahrschule-seyfried.de
SUMMARY:Grundunterricht  Lektion 4
DESCRIPTION:Lektion 4: Straßenverkehrssystem
URL:https://www.fahrschule-seyfried.de/termin/grundunterricht-lektion-4-16/
LOCATION:Calmbach\, Wildbader Straße 6\, Calmbach\, Baden-Württemberg\, 75323\, Deutschland
ATTACH;FMTTYPE=image/jpeg:https://www.fahrschule-seyfried.de/wp-content/uploads/2021/03/vw-golf-gelb-klein.jpg
END:VEVENT
BEGIN:VEVENT
DTSTART;TZID=Europe/Berlin:20231226T190000
DTEND;TZID=Europe/Berlin:20231226T203000
DTSTAMP:20260421T193048
CREATED:20200523T130238Z
LAST-MODIFIED:20231102T181951Z
UID:2486-1703617200-1703622600@www.fahrschule-seyfried.de
SUMMARY:Weihnachtspause\, wir wünschen schöne Feiertage!
DESCRIPTION:
URL:https://www.fahrschule-seyfried.de/termin/weihnachtspause-wir-wuenschen-schoene-feiertage-5/
LOCATION:Calmbach\, Wildbader Straße 6\, Calmbach\, Baden-Württemberg\, 75323\, Deutschland
ATTACH;FMTTYPE=image/jpeg:https://www.fahrschule-seyfried.de/wp-content/uploads/2020/05/weihnachtskarte-bulli-bus-lustig-international-orange-quadratisch-geschenke-92708_1280x1280.jpg
END:VEVENT
BEGIN:VEVENT
DTSTART;TZID=Europe/Berlin:20231228T190000
DTEND;TZID=Europe/Berlin:20231228T203000
DTSTAMP:20260421T193048
CREATED:20200523T130238Z
LAST-MODIFIED:20231102T173400Z
UID:2485-1703790000-1703795400@www.fahrschule-seyfried.de
SUMMARY:Weihnachtspause\, wir wünschen schöne Feiertage!
DESCRIPTION:
URL:https://www.fahrschule-seyfried.de/termin/weihnachtspause-wir-wuenschen-schoene-feiertage-6/
LOCATION:Calmbach\, Wildbader Straße 6\, Calmbach\, Baden-Württemberg\, 75323\, Deutschland
ATTACH;FMTTYPE=image/webp:https://www.fahrschule-seyfried.de/wp-content/uploads/2020/05/weisse-weihnachten-klimawandel-weihnachtstauwetter-schnee-1669699135244_768.webp
END:VEVENT
END:VCALENDAR