BEGIN:VCALENDAR
VERSION:2.0
PRODID:-//Fahrschule Seyfried - ECPv5.12.4//NONSGML v1.0//EN
CALSCALE:GREGORIAN
METHOD:PUBLISH
X-WR-CALNAME:Fahrschule Seyfried
X-ORIGINAL-URL:https://www.fahrschule-seyfried.de
X-WR-CALDESC:Veranstaltungen für Fahrschule Seyfried
REFRESH-INTERVAL;VALUE=DURATION:PT1H
X-Robots-Tag:noindex
X-PUBLISHED-TTL:PT1H
BEGIN:VTIMEZONE
TZID:Europe/Berlin
BEGIN:DAYLIGHT
TZOFFSETFROM:+0100
TZOFFSETTO:+0200
TZNAME:CEST
DTSTART:20230326T010000
END:DAYLIGHT
BEGIN:STANDARD
TZOFFSETFROM:+0200
TZOFFSETTO:+0100
TZNAME:CET
DTSTART:20231029T010000
END:STANDARD
END:VTIMEZONE
BEGIN:VEVENT
DTSTART;TZID=Europe/Berlin:20230905T190000
DTEND;TZID=Europe/Berlin:20230905T203000
DTSTAMP:20260421T140522
CREATED:20200523T130238Z
LAST-MODIFIED:20230822T153732Z
UID:2403-1693940400-1693945800@www.fahrschule-seyfried.de
SUMMARY:Grundunterricht  Lektion 3
DESCRIPTION:Lektion 3: Verkehrszeichen
URL:https://www.fahrschule-seyfried.de/termin/grundunterricht-lektion-3-14/
LOCATION:Calmbach\, Wildbader Straße 6\, Calmbach\, Baden-Württemberg\, 75323\, Deutschland
ATTACH;FMTTYPE=image/jpeg:https://www.fahrschule-seyfried.de/wp-content/uploads/2020/05/Kopie-von-DSC02083.jpg
END:VEVENT
BEGIN:VEVENT
DTSTART;TZID=Europe/Berlin:20230907T190000
DTEND;TZID=Europe/Berlin:20230907T203000
DTSTAMP:20260421T140522
CREATED:20200523T130238Z
LAST-MODIFIED:20230822T153806Z
UID:2405-1694113200-1694118600@www.fahrschule-seyfried.de
SUMMARY:Grundunterricht  Lektion 4
DESCRIPTION:Lektion 4: Straßenverkehrssystem
URL:https://www.fahrschule-seyfried.de/termin/grundunterricht-lektion-4-14/
LOCATION:Calmbach\, Wildbader Straße 6\, Calmbach\, Baden-Württemberg\, 75323\, Deutschland
ATTACH;FMTTYPE=image/jpeg:https://www.fahrschule-seyfried.de/wp-content/uploads/2020/05/20191203_102618-scaled.jpg
END:VEVENT
BEGIN:VEVENT
DTSTART;TZID=Europe/Berlin:20230912T190000
DTEND;TZID=Europe/Berlin:20230912T203000
DTSTAMP:20260421T140522
CREATED:20200523T130238Z
LAST-MODIFIED:20230822T153837Z
UID:2407-1694545200-1694550600@www.fahrschule-seyfried.de
SUMMARY:Grundunterricht  Lektion 5
DESCRIPTION:Lektion 5: Vorfahrt
URL:https://www.fahrschule-seyfried.de/termin/grundunterricht-lektion-5-14/
LOCATION:Calmbach\, Wildbader Straße 6\, Calmbach\, Baden-Württemberg\, 75323\, Deutschland
ATTACH;FMTTYPE=image/jpeg:https://www.fahrschule-seyfried.de/wp-content/uploads/2021/03/reifenmodell.jpg
END:VEVENT
BEGIN:VEVENT
DTSTART;TZID=Europe/Berlin:20230914T190000
DTEND;TZID=Europe/Berlin:20230914T203000
DTSTAMP:20260421T140522
CREATED:20200523T130238Z
LAST-MODIFIED:20230822T153907Z
UID:2409-1694718000-1694723400@www.fahrschule-seyfried.de
SUMMARY:Grundunterricht  Lektion 6
DESCRIPTION:Lektion 6: Lichtzeichenanlage\, Bahnübergänge
URL:https://www.fahrschule-seyfried.de/termin/grundunterricht-lektion-6-14/
LOCATION:Calmbach\, Wildbader Straße 6\, Calmbach\, Baden-Württemberg\, 75323\, Deutschland
ATTACH;FMTTYPE=image/png:https://www.fahrschule-seyfried.de/wp-content/uploads/2020/03/Logobunt-uranograu.png
END:VEVENT
BEGIN:VEVENT
DTSTART;TZID=Europe/Berlin:20230919T190000
DTEND;TZID=Europe/Berlin:20230919T203000
DTSTAMP:20260421T140522
CREATED:20200523T130238Z
LAST-MODIFIED:20230822T160249Z
UID:2411-1695150000-1695155400@www.fahrschule-seyfried.de
SUMMARY:Unterricht fällt aus: Alle Fahrlehrer auf Fortbildung
DESCRIPTION:
URL:https://www.fahrschule-seyfried.de/termin/unterricht-faellt-aus-alle-fahrlehrer-auf-fortbildung/
LOCATION:Calmbach\, Wildbader Straße 6\, Calmbach\, Baden-Württemberg\, 75323\, Deutschland
ATTACH;FMTTYPE=image/jpeg:https://www.fahrschule-seyfried.de/wp-content/uploads/2020/05/csm_Teaser_FoBi_Kachel_neu_2021_860b9f061f.jpg
END:VEVENT
BEGIN:VEVENT
DTSTART;TZID=Europe/Berlin:20230921T190000
DTEND;TZID=Europe/Berlin:20230921T203000
DTSTAMP:20260421T140522
CREATED:20200523T130238Z
LAST-MODIFIED:20230822T160335Z
UID:2417-1695322800-1695328200@www.fahrschule-seyfried.de
SUMMARY:Unterricht fällt aus: Alle Fahrlehrer auf Fortbildung
DESCRIPTION:
URL:https://www.fahrschule-seyfried.de/termin/unterricht-faellt-aus-alle-fahrlehrer-auf-fortbildung-2/
LOCATION:Calmbach\, Wildbader Straße 6\, Calmbach\, Baden-Württemberg\, 75323\, Deutschland
ATTACH;FMTTYPE=image/jpeg:https://www.fahrschule-seyfried.de/wp-content/uploads/2020/05/D_fortbildung.jpg
END:VEVENT
BEGIN:VEVENT
DTSTART;TZID=Europe/Berlin:20230926T190000
DTEND;TZID=Europe/Berlin:20230926T203000
DTSTAMP:20260421T140522
CREATED:20200523T130238Z
LAST-MODIFIED:20230822T160417Z
UID:2419-1695754800-1695760200@www.fahrschule-seyfried.de
SUMMARY:Grundunterricht  Lektion 7
DESCRIPTION:Lektion 7: Geschwindigkeit\, Abstand
URL:https://www.fahrschule-seyfried.de/termin/grundunterricht-lektion-7-15/
LOCATION:Calmbach\, Wildbader Straße 6\, Calmbach\, Baden-Württemberg\, 75323\, Deutschland
ATTACH;FMTTYPE=image/jpeg:https://www.fahrschule-seyfried.de/wp-content/uploads/2020/05/DSC02085-scaled.jpg
END:VEVENT
BEGIN:VEVENT
DTSTART;TZID=Europe/Berlin:20230928T190000
DTEND;TZID=Europe/Berlin:20230928T203000
DTSTAMP:20260421T140522
CREATED:20200523T130238Z
LAST-MODIFIED:20230822T160501Z
UID:2421-1695927600-1695933000@www.fahrschule-seyfried.de
SUMMARY:Grundunterricht  Lektion 8
DESCRIPTION:Lektion 8: Andere Verkehrsteilnehmer
URL:https://www.fahrschule-seyfried.de/termin/grundunterricht-lektion-8-15/
LOCATION:Calmbach\, Wildbader Straße 6\, Calmbach\, Baden-Württemberg\, 75323\, Deutschland
ATTACH;FMTTYPE=image/png:https://www.fahrschule-seyfried.de/wp-content/uploads/2022/09/SAM_0522.png
END:VEVENT
BEGIN:VEVENT
DTSTART;VALUE=DATE:20230930
DTEND;VALUE=DATE:20231001
DTSTAMP:20260421T140522
CREATED:20200523T130238Z
LAST-MODIFIED:20230908T163720Z
UID:2440-1696032000-1696118399@www.fahrschule-seyfried.de
SUMMARY:Erste Hilfe Kurs
DESCRIPTION:Die Vergabe der Plätze erfolgt über die Fahrschule.Weitere Termine folgen regelmäßig in einem Abstand von 30 bis 45 Tagen.Der Kurs findet immer Samstags ab 08:30 Uhr in der Fahrschule in Calmbach statt.
URL:https://www.fahrschule-seyfried.de/termin/erste-hilfe-kurs-13/
LOCATION:Calmbach\, Wildbader Straße 6\, Calmbach\, Baden-Württemberg\, 75323\, Deutschland
ATTACH;FMTTYPE=image/jpeg:https://www.fahrschule-seyfried.de/wp-content/uploads/2020/07/erste-hilfe-koffer.jpg
END:VEVENT
END:VCALENDAR