BEGIN:VCALENDAR
VERSION:2.0
PRODID:-//Fahrschule Seyfried - ECPv5.12.4//NONSGML v1.0//EN
CALSCALE:GREGORIAN
METHOD:PUBLISH
X-WR-CALNAME:Fahrschule Seyfried
X-ORIGINAL-URL:https://www.fahrschule-seyfried.de
X-WR-CALDESC:Veranstaltungen für Fahrschule Seyfried
REFRESH-INTERVAL;VALUE=DURATION:PT1H
X-Robots-Tag:noindex
X-PUBLISHED-TTL:PT1H
BEGIN:VTIMEZONE
TZID:Europe/Berlin
BEGIN:DAYLIGHT
TZOFFSETFROM:+0100
TZOFFSETTO:+0200
TZNAME:CEST
DTSTART:20230326T010000
END:DAYLIGHT
BEGIN:STANDARD
TZOFFSETFROM:+0200
TZOFFSETTO:+0100
TZNAME:CET
DTSTART:20231029T010000
END:STANDARD
END:VTIMEZONE
BEGIN:VEVENT
DTSTART;TZID=Europe/Berlin:20230801T190000
DTEND;TZID=Europe/Berlin:20230801T203000
DTSTAMP:20260421T123625
CREATED:20200523T130238Z
LAST-MODIFIED:20230707T153732Z
UID:2375-1690916400-1690921800@www.fahrschule-seyfried.de
SUMMARY:Grundunterricht  Lektion 7
DESCRIPTION:Lektion 7: Geschwindigkeit\, Abstand
URL:https://www.fahrschule-seyfried.de/termin/grundunterricht-lektion-7-14/
LOCATION:Calmbach\, Wildbader Straße 6\, Calmbach\, Baden-Württemberg\, 75323\, Deutschland
ATTACH;FMTTYPE=image/jpeg:https://www.fahrschule-seyfried.de/wp-content/uploads/2020/05/DSC02085-scaled.jpg
END:VEVENT
BEGIN:VEVENT
DTSTART;TZID=Europe/Berlin:20230803T190000
DTEND;TZID=Europe/Berlin:20230803T203000
DTSTAMP:20260421T123625
CREATED:20200523T130238Z
LAST-MODIFIED:20230707T153808Z
UID:2377-1691089200-1691094600@www.fahrschule-seyfried.de
SUMMARY:Grundunterricht  Lektion 8
DESCRIPTION:Lektion 8: Andere Verkehrsteilnehmer
URL:https://www.fahrschule-seyfried.de/termin/grundunterricht-lektion-8-14/
LOCATION:Calmbach\, Wildbader Straße 6\, Calmbach\, Baden-Württemberg\, 75323\, Deutschland
ATTACH;FMTTYPE=image/png:https://www.fahrschule-seyfried.de/wp-content/uploads/2022/09/SAM_0522.png
END:VEVENT
BEGIN:VEVENT
DTSTART;TZID=Europe/Berlin:20230808T190000
DTEND;TZID=Europe/Berlin:20230808T203000
DTSTAMP:20260421T123625
CREATED:20200523T130238Z
LAST-MODIFIED:20230707T153929Z
UID:2379-1691521200-1691526600@www.fahrschule-seyfried.de
SUMMARY:Grundunterricht  Lektion 9
DESCRIPTION:Lektion 9: Verhalten nach Verkehrsmanövern
URL:https://www.fahrschule-seyfried.de/termin/grundunterricht-lektion-9-14/
LOCATION:Calmbach\, Wildbader Straße 6\, Calmbach\, Baden-Württemberg\, 75323\, Deutschland
ATTACH;FMTTYPE=image/jpeg:https://www.fahrschule-seyfried.de/wp-content/uploads/2021/03/modellautoregal.jpg
END:VEVENT
BEGIN:VEVENT
DTSTART;TZID=Europe/Berlin:20230810T190000
DTEND;TZID=Europe/Berlin:20230810T203000
DTSTAMP:20260421T123625
CREATED:20200523T130238Z
LAST-MODIFIED:20230707T154039Z
UID:2382-1691694000-1691699400@www.fahrschule-seyfried.de
SUMMARY:Grundunterricht  Lektion 10
DESCRIPTION:Lektion 10: Parken
URL:https://www.fahrschule-seyfried.de/termin/grundunterricht-lektion-10-15/
LOCATION:Calmbach\, Wildbader Straße 6\, Calmbach\, Baden-Württemberg\, 75323\, Deutschland
ATTACH;FMTTYPE=image/jpeg:https://www.fahrschule-seyfried.de/wp-content/uploads/2020/05/Kopie-von-DSC02083.jpg
END:VEVENT
BEGIN:VEVENT
DTSTART;TZID=Europe/Berlin:20230815T190000
DTEND;TZID=Europe/Berlin:20230815T203000
DTSTAMP:20260421T123625
CREATED:20200523T130238Z
LAST-MODIFIED:20230707T154122Z
UID:2384-1692126000-1692131400@www.fahrschule-seyfried.de
SUMMARY:Grundunterricht  Lektion 11
DESCRIPTION:Lektion 11: Licht\, Tunnel\, Unfälle
URL:https://www.fahrschule-seyfried.de/termin/grundunterricht-lektion-11-15/
LOCATION:Calmbach\, Wildbader Straße 6\, Calmbach\, Baden-Württemberg\, 75323\, Deutschland
ATTACH;FMTTYPE=image/jpeg:https://www.fahrschule-seyfried.de/wp-content/uploads/2021/03/gilbert-online.jpg
END:VEVENT
BEGIN:VEVENT
DTSTART;TZID=Europe/Berlin:20230817T190000
DTEND;TZID=Europe/Berlin:20230817T203000
DTSTAMP:20260421T123625
CREATED:20200523T130238Z
LAST-MODIFIED:20230707T154205Z
UID:2386-1692298800-1692304200@www.fahrschule-seyfried.de
SUMMARY:Grundunterricht  Lektion 12
DESCRIPTION:Lektion 12: Lebenslanges Lernen
URL:https://www.fahrschule-seyfried.de/termin/grundunterricht-lektion-12-14/
LOCATION:Calmbach\, Wildbader Straße 6\, Calmbach\, Baden-Württemberg\, 75323\, Deutschland
ATTACH;FMTTYPE=image/jpeg:https://www.fahrschule-seyfried.de/wp-content/uploads/2021/03/sigi-tafel.jpg
END:VEVENT
BEGIN:VEVENT
DTSTART;TZID=Europe/Berlin:20230822T190000
DTEND;TZID=Europe/Berlin:20230822T203000
DTSTAMP:20260421T123625
CREATED:20200523T130238Z
LAST-MODIFIED:20230707T154243Z
UID:2388-1692730800-1692736200@www.fahrschule-seyfried.de
SUMMARY:Klasse B Lektion B1
DESCRIPTION:Lektion B1: Technik\, Fahrphysik
URL:https://www.fahrschule-seyfried.de/termin/klasse-b-lektion-b1-17/
LOCATION:Calmbach\, Wildbader Straße 6\, Calmbach\, Baden-Württemberg\, 75323\, Deutschland
ATTACH;FMTTYPE=image/jpeg:https://www.fahrschule-seyfried.de/wp-content/uploads/2021/03/bremsmodell.jpg
END:VEVENT
BEGIN:VEVENT
DTSTART;TZID=Europe/Berlin:20230824T190000
DTEND;TZID=Europe/Berlin:20230824T203000
DTSTAMP:20260421T123625
CREATED:20200523T130238Z
LAST-MODIFIED:20230707T154520Z
UID:2392-1692903600-1692909000@www.fahrschule-seyfried.de
SUMMARY:Klasse B Lektion B2
DESCRIPTION:Lektion B2: Anhänger
URL:https://www.fahrschule-seyfried.de/termin/klasse-b-lektion-b2-17/
LOCATION:Calmbach
ATTACH;FMTTYPE=image/png:https://www.fahrschule-seyfried.de/wp-content/uploads/2021/03/anhaenger-2021.png
END:VEVENT
BEGIN:VEVENT
DTSTART;TZID=Europe/Berlin:20230829T190000
DTEND;TZID=Europe/Berlin:20230829T203000
DTSTAMP:20260421T123625
CREATED:20200523T130238Z
LAST-MODIFIED:20230707T154556Z
UID:2394-1693335600-1693341000@www.fahrschule-seyfried.de
SUMMARY:Grundunterricht  Lektion 1
DESCRIPTION:Lektion 1: Persönliche Voraussetzungen
URL:https://www.fahrschule-seyfried.de/termin/grundunterricht-lektion-1-15/
LOCATION:Calmbach\, Wildbader Straße 6\, Calmbach\, Baden-Württemberg\, 75323\, Deutschland
ATTACH;FMTTYPE=image/jpeg:https://www.fahrschule-seyfried.de/wp-content/uploads/2021/03/tiguan-vor-fahrschule.jpg
END:VEVENT
BEGIN:VEVENT
DTSTART;TZID=Europe/Berlin:20230831T190000
DTEND;TZID=Europe/Berlin:20230831T203000
DTSTAMP:20260421T123625
CREATED:20200523T130238Z
LAST-MODIFIED:20230707T154629Z
UID:2396-1693508400-1693513800@www.fahrschule-seyfried.de
SUMMARY:Grundunterricht  Lektion 2
DESCRIPTION:Lektion 2: Rechtliche Rahmenbedingungen
URL:https://www.fahrschule-seyfried.de/termin/grundunterricht-lektion-2-14/
LOCATION:Calmbach\, Wildbader Straße 6\, Calmbach\, Baden-Württemberg\, 75323\, Deutschland
ATTACH;FMTTYPE=image/jpeg:https://www.fahrschule-seyfried.de/wp-content/uploads/2021/03/gilbert-online.jpg
END:VEVENT
END:VCALENDAR